Workbook

Sheet Лист1
EM2: Приложение № 6
EE3: к приказу ФАС России
EE4: от 08.12.2022 №960/22
EM5: Форма 2
A7: Информация о регистрации и ходе реализации заявок о подключении
A8: (технологическом присоединении) к газораспределительным сетям
A9: ООО "Газпром газораспределение Волгоград " за август 2026г.
A11: № | G11: Категория заявителей | AS11: Количество поступивших заявок | BI11: Количество отклоненных (аннулированных, в случае непредставления документов) заявок | DW11: Количество заключенных договоров | EM11: Количество выполненных присоединений
AS12: Коли- чество | BA12: объем, м3/час | BI12: Коли- чество | BQ12: объем, м3/час | BY12: причина отклонения | DW12: Коли- чество | EE12: Объем, м3/час | EM12: Количество | FA12: Объем, м3/час
BY14: Непред- ставление | CI14: отсутствие технической возможности
CI15: в объектах газотранс- портной организации | CV15: в сетях испол- нителя | DE15: в технологически связанных с сетью газораспределения исполнителя сетях газораспределения
G16: 1 | AS16: 2 | BA16: 3 | BI16: 4 | BQ16: 5 | BY16: 6 | CI16: 7 | CV16: 8 | DE16: 9 | DW16: 10 | EE16: 11 | EM16: 12 | FA16: 13
A17: 1 | G17: I категория | R17: Физическое лицо | AF17: Плата | AS17: ='[1]облгаз ТП + догаз'!AS17:AZ17+[1]ГОРГАЗ!AS17 -> 6 | BA17: ='[1]облгаз ТП + догаз'!BA17:BH17+[1]ГОРГАЗ!BA17 -> 27.33 | BI17: ='[1]облгаз ТП + догаз'!BI17:BP17+[1]ГОРГАЗ!BI17 -> 0 | BQ17: ='[1]облгаз ТП + догаз'!BQ17:BX17+[1]ГОРГАЗ!BQ17 -> 0 | BY17: ='[1]облгаз ТП + догаз'!BY17:CH17+[1]ГОРГАЗ!BY17 -> 0 | CI17: ='[1]облгаз ТП + догаз'!CI17:CU17+[1]ГОРГАЗ!CI17 -> 0 | CV17: ='[1]облгаз ТП + догаз'!CV17:DD17+[1]ГОРГАЗ!CV17 -> 0 | DE17: ='[1]облгаз ТП + догаз'!DE17:DV17+[1]ГОРГАЗ!DE17 -> 0 | DW17: ='[1]облгаз ТП + догаз'!DW17:ED17+[1]ГОРГАЗ!DW17 -> 5 | EE17: ='[1]облгаз ТП + догаз'!EE17:EL17+[1]ГОРГАЗ!EE17 -> 23.5 | EM17: ='[1]облгаз ТП + догаз'!EM17:EZ17+[1]ГОРГАЗ!EM17 -> 3 | FA17: ='[1]облгаз ТП + догаз'!FA17:FK17+[1]ГОРГАЗ!FA17 -> 15
A18: 2 | AF18: Стандартизи- рованные ставки | AS18: ='[1]облгаз ТП + догаз'!AS18:AZ18+[1]ГОРГАЗ!AS18 -> 10 | BA18: ='[1]облгаз ТП + догаз'!BA18:BH18+[1]ГОРГАЗ!BA18 -> 50 | BI18: ='[1]облгаз ТП + догаз'!BI18:BP18+[1]ГОРГАЗ!BI18 -> 0 | BQ18: ='[1]облгаз ТП + догаз'!BQ18:BX18+[1]ГОРГАЗ!BQ18 -> 0 | BY18: ='[1]облгаз ТП + догаз'!BY18:CH18+[1]ГОРГАЗ!BY18 -> 0 | CI18: ='[1]облгаз ТП + догаз'!CI18:CU18+[1]ГОРГАЗ!CI18 -> 0 | CV18: ='[1]облгаз ТП + догаз'!CV18:DD18+[1]ГОРГАЗ!CV18 -> 0 | DE18: ='[1]облгаз ТП + догаз'!DE18:DV18+[1]ГОРГАЗ!DE18 -> 0 | DW18: ='[1]облгаз ТП + догаз'!DW18:ED18+[1]ГОРГАЗ!DW18 -> 17 | EE18: ='[1]облгаз ТП + догаз'!EE18:EL18+[1]ГОРГАЗ!EE18 -> 98 | EM18: ='[1]облгаз ТП + догаз'!EM18:EZ18+[1]ГОРГАЗ!EM18 -> 34 | FA18: ='[1]облгаз ТП + догаз'!FA18:FK18+[1]ГОРГАЗ!FA18 -> 170
A19: 3 | R19: Юридическое лицо | AF19: Плата | AS19: ='[1]облгаз ТП + догаз'!AS19+[1]ГОРГАЗ!AS19 -> 1 | BA19: ='[1]облгаз ТП + догаз'!BA19:BH19+[1]ГОРГАЗ!BA19 -> 4.6 | BI19: ='[1]облгаз ТП + догаз'!BI19:BP19+[1]ГОРГАЗ!BI19 -> 0 | BQ19: ='[1]облгаз ТП + догаз'!BQ19:BX19+[1]ГОРГАЗ!BQ19 -> 0 | BY19: ='[1]облгаз ТП + догаз'!BY19:CH19+[1]ГОРГАЗ!BY19 -> 0 | CI19: ='[1]облгаз ТП + догаз'!CI19:CU19+[1]ГОРГАЗ!CI19 -> 0 | CV19: ='[1]облгаз ТП + догаз'!CV19:DD19+[1]ГОРГАЗ!CV19 -> 0 | DE19: ='[1]облгаз ТП + догаз'!DE19:DV19+[1]ГОРГАЗ!DE19 -> 0 | DW19: ='[1]облгаз ТП + догаз'!DW19:ED19+[1]ГОРГАЗ!DW19 -> 1 | EE19: ='[1]облгаз ТП + догаз'!EE19:EL19+[1]ГОРГАЗ!EE19 -> 0 | EM19: ='[1]облгаз ТП + догаз'!EM19:EZ19+[1]ГОРГАЗ!EM19 -> 0 | FA19: ='[1]облгаз ТП + догаз'!FA19:FK19+[1]ГОРГАЗ!FA19 -> 0
A20: 4 | AF20: Стандартизи- рованные ставки | AS20: ='[1]облгаз ТП + догаз'!AS20+[1]ГОРГАЗ!AS20 -> 0 | BA20: ='[1]облгаз ТП + догаз'!BA20:BH20+[1]ГОРГАЗ!BA20 -> 0 | BI20: ='[1]облгаз ТП + догаз'!BI20:BP20+[1]ГОРГАЗ!BI20 -> 0 | BQ20: ='[1]облгаз ТП + догаз'!BQ20:BX20+[1]ГОРГАЗ!BQ20 -> 0 | BY20: ='[1]облгаз ТП + догаз'!BY20:CH20+[1]ГОРГАЗ!BY20 -> 0 | CI20: ='[1]облгаз ТП + догаз'!CI20:CU20+[1]ГОРГАЗ!CI20 -> 0 | CV20: ='[1]облгаз ТП + догаз'!CV20:DD20+[1]ГОРГАЗ!CV20 -> 0 | DE20: ='[1]облгаз ТП + догаз'!DE20:DV20+[1]ГОРГАЗ!DE20 -> 0 | DW20: ='[1]облгаз ТП + догаз'!DW20:ED20+[1]ГОРГАЗ!DW20 -> 2 | EE20: ='[1]облгаз ТП + догаз'!EE20:EL20+[1]ГОРГАЗ!EE20 -> 26.7 | EM20: ='[1]облгаз ТП + догаз'!EM20:EZ20+[1]ГОРГАЗ!EM20 -> 3 | FA20: ='[1]облгаз ТП + догаз'!FA20:FK20+[1]ГОРГАЗ!FA20 -> 50.5
A21: 5 | G21: II категория | R21: Физическое лицо | AF21: Стандартизи- рованные ставки | AS21: ='[1]облгаз ТП + догаз'!AS21:AZ21+[1]ГОРГАЗ!AS21 -> 51 | BA21: ='[1]облгаз ТП + догаз'!BA21:BH21+[1]ГОРГАЗ!BA21 -> 315.87 | BI21: ='[1]облгаз ТП + догаз'!BI21:BP21+[1]ГОРГАЗ!BI21 -> 0 | BQ21: ='[1]облгаз ТП + догаз'!BQ21:BX21+[1]ГОРГАЗ!BQ21 -> 0 | BY21: ='[1]облгаз ТП + догаз'!BY21:CH21+[1]ГОРГАЗ!BY21 -> 0 | CI21: ='[1]облгаз ТП + догаз'!CI21:CU21+[1]ГОРГАЗ!CI21 -> 0 | CV21: ='[1]облгаз ТП + догаз'!CV21:DD21+[1]ГОРГАЗ!CV21 -> 0 | DE21: ='[1]облгаз ТП + догаз'!DE21:DV21+[1]ГОРГАЗ!DE21 -> 0 | DW21: ='[1]облгаз ТП + догаз'!DW21:ED21+[1]ГОРГАЗ!DW21 -> 41 | EE21: ='[1]облгаз ТП + догаз'!EE21:EL21+[1]ГОРГАЗ!EE21 -> 242.51 | EM21: ='[1]облгаз ТП + догаз'!EM21:EZ21+[1]ГОРГАЗ!EM21 -> 18 | FA21: ='[1]облгаз ТП + догаз'!FA21:FK21+[1]ГОРГАЗ!FA21 -> 115.56
A22: 6 | R22: Юридическое лицо | AF22: Стандартизи- рованные ставки | AS22: ='[1]облгаз ТП + догаз'!AS22:AZ22+[1]ГОРГАЗ!AS22 -> 12 | BA22: ='[1]облгаз ТП + догаз'!BA22:BH22+[1]ГОРГАЗ!BA22 -> 2740.22 | BI22: ='[1]облгаз ТП + догаз'!BI22:BP22+[1]ГОРГАЗ!BI22 -> 0 | BQ22: ='[1]облгаз ТП + догаз'!BQ22:BX22+[1]ГОРГАЗ!BQ22 -> 0 | BY22: ='[1]облгаз ТП + догаз'!BY22:CH22+[1]ГОРГАЗ!BY22 -> 0 | CI22: ='[1]облгаз ТП + догаз'!CI22:CU22+[1]ГОРГАЗ!CI22 -> 0 | CV22: ='[1]облгаз ТП + догаз'!CV22:DD22+[1]ГОРГАЗ!CV22 -> 0 | DE22: ='[1]облгаз ТП + догаз'!DE22:DV22+[1]ГОРГАЗ!DE22 -> 0 | DW22: ='[1]облгаз ТП + догаз'!DW22:ED22+[1]ГОРГАЗ!DW22 -> 9 | EE22: ='[1]облгаз ТП + догаз'!EE22:EL22+[1]ГОРГАЗ!EE22 -> 1645.42 | EM22: ='[1]облгаз ТП + догаз'!EM22:EZ22+[1]ГОРГАЗ!EM22 -> 23 | FA22: ='[1]облгаз ТП + догаз'!FA22:FK22+[1]ГОРГАЗ!FA22 -> 1063.27
A23: 7 | G23: III категория | R23: Физическое лицо | AF23: Стандартизи- рованные ставки | AS23: ='[1]облгаз ТП + догаз'!AS23:AZ23+[1]ГОРГАЗ!AS23 -> 0 | BA23: ='[1]облгаз ТП + догаз'!BA23:BH23+[1]ГОРГАЗ!BA23 -> 0 | BI23: ='[1]облгаз ТП + догаз'!BI23:BP23+[1]ГОРГАЗ!BI23 -> 0 | BQ23: ='[1]облгаз ТП + догаз'!BQ23:BX23+[1]ГОРГАЗ!BQ23 -> 0 | BY23: ='[1]облгаз ТП + догаз'!BY23:CH23+[1]ГОРГАЗ!BY23 -> 0 | CI23: ='[1]облгаз ТП + догаз'!CI23:CU23+[1]ГОРГАЗ!CI23 -> 0 | CV23: ='[1]облгаз ТП + догаз'!CV23:DD23+[1]ГОРГАЗ!CV23 -> 0 | DE23: ='[1]облгаз ТП + догаз'!DE23:DV23+[1]ГОРГАЗ!DE23 -> 0 | DW23: ='[1]облгаз ТП + догаз'!DW23:ED23+[1]ГОРГАЗ!DW23 -> 0 | EE23: ='[1]облгаз ТП + догаз'!EE23:EL23+[1]ГОРГАЗ!EE23 -> 0 | EM23: ='[1]облгаз ТП + догаз'!EM23:EZ23+[1]ГОРГАЗ!EM23 -> 0 | FA23: ='[1]облгаз ТП + догаз'!FA23:FK23+[1]ГОРГАЗ!FA23 -> 0
A24: 8 | R24: Юридическое лицо | AF24: Стандартизи- рованные ставки | AS24: ='[1]облгаз ТП + догаз'!AS24:AZ24+[1]ГОРГАЗ!AS24 -> 0 | BA24: ='[1]облгаз ТП + догаз'!BA24:BH24+[1]ГОРГАЗ!BA24 -> 0 | BI24: ='[1]облгаз ТП + догаз'!BI24:BP24+[1]ГОРГАЗ!BI24 -> 0 | BQ24: ='[1]облгаз ТП + догаз'!BQ24:BX24+[1]ГОРГАЗ!BQ24 -> 0 | BY24: ='[1]облгаз ТП + догаз'!BY24:CH24+[1]ГОРГАЗ!BY24 -> 0 | CI24: ='[1]облгаз ТП + догаз'!CI24:CU24+[1]ГОРГАЗ!CI24 -> 0 | CV24: ='[1]облгаз ТП + догаз'!CV24:DD24+[1]ГОРГАЗ!CV24 -> 0 | DE24: ='[1]облгаз ТП + догаз'!DE24:DV24+[1]ГОРГАЗ!DE24 -> 0 | DW24: ='[1]облгаз ТП + догаз'!DW24:ED24+[1]ГОРГАЗ!DW24 -> 0 | EE24: ='[1]облгаз ТП + догаз'!EE24:EL24+[1]ГОРГАЗ!EE24 -> 0 | EM24: ='[1]облгаз ТП + догаз'!EM24:EZ24+[1]ГОРГАЗ!EM24 -> 0 | FA24: ='[1]облгаз ТП + догаз'!FA24:FK24+[1]ГОРГАЗ!FA24 -> 0
A25: 9 | G25: Индиви- дуаль- ный проект | R25: проведение мероприятий по ликвидации дефицита пропускной способности | AS25: ='[1]облгаз ТП + догаз'!AS25:AZ25+[1]ГОРГАЗ!AS25 -> 0 | BA25: ='[1]облгаз ТП + догаз'!BA25:BH25+[1]ГОРГАЗ!BA25 -> 0 | BI25: ='[1]облгаз ТП + догаз'!BI25:BP25+[1]ГОРГАЗ!BI25 -> 0 | BQ25: ='[1]облгаз ТП + догаз'!BQ25:BX25+[1]ГОРГАЗ!BQ25 -> 0 | BY25: ='[1]облгаз ТП + догаз'!BY25:CH25+[1]ГОРГАЗ!BY25 -> 0 | CI25: ='[1]облгаз ТП + догаз'!CI25:CU25+[1]ГОРГАЗ!CI25 -> 0 | CV25: ='[1]облгаз ТП + догаз'!CV25:DD25+[1]ГОРГАЗ!CV25 -> 0 | DE25: ='[1]облгаз ТП + догаз'!DE25:DV25+[1]ГОРГАЗ!DE25 -> 0 | DW25: ='[1]облгаз ТП + догаз'!DW25:ED25+[1]ГОРГАЗ!DW25 -> 0 | EE25: ='[1]облгаз ТП + догаз'!EE25:EL25+[1]ГОРГАЗ!EE25 -> 0 | EM25: ='[1]облгаз ТП + догаз'!EM25:EZ25+[1]ГОРГАЗ!EM25 -> 0 | FA25: ='[1]облгаз ТП + догаз'!FA25:FK25+[1]ГОРГАЗ!FA25 -> 0
A26: 10 | R26: проведение лесоустроительных работ | AS26: ='[1]облгаз ТП + догаз'!AS26:AZ26+[1]ГОРГАЗ!AS26 -> 0 | BA26: ='[1]облгаз ТП + догаз'!BA26:BH26+[1]ГОРГАЗ!BA26 -> 0 | BI26: ='[1]облгаз ТП + догаз'!BI26:BP26+[1]ГОРГАЗ!BI26 -> 0 | BQ26: ='[1]облгаз ТП + догаз'!BQ26:BX26+[1]ГОРГАЗ!BQ27 -> 0 | BY26: ='[1]облгаз ТП + догаз'!BY26:CH26+[1]ГОРГАЗ!BY26 -> 0 | CI26: ='[1]облгаз ТП + догаз'!CI26:CU26+[1]ГОРГАЗ!CI26 -> 0 | CV26: ='[1]облгаз ТП + догаз'!CV26:DD26+[1]ГОРГАЗ!CV26 -> 0 | DE26: ='[1]облгаз ТП + догаз'!DE26:DV26+[1]ГОРГАЗ!DE26 -> 0 | DW26: ='[1]облгаз ТП + догаз'!DW26:ED26+[1]ГОРГАЗ!DW26 -> 0 | EE26: ='[1]облгаз ТП + догаз'!EE26:EL26+[1]ГОРГАЗ!EE26 -> 0 | EM26: ='[1]облгаз ТП + догаз'!EM26:EZ26+[1]ГОРГАЗ!EM26 -> 0 | FA26: ='[1]облгаз ТП + догаз'!FA26:FK26+[1]ГОРГАЗ!FA26 -> 0
A27: 11 | R27: врезка в газопроводы диаметром более 250 мм под давлением не менее 0,3 МПа | AS27: ='[1]облгаз ТП + догаз'!AS27:AZ27+[1]ГОРГАЗ!AS27 -> 0 | BA27: ='[1]облгаз ТП + догаз'!BA27:BH27+[1]ГОРГАЗ!BA27 -> 0 | BI27: ='[1]облгаз ТП + догаз'!BI27:BP27+[1]ГОРГАЗ!BI27 -> 0 | BQ27: ='[1]облгаз ТП + догаз'!BQ27:BX27+[1]ГОРГАЗ!BQ27 -> 0 | BY27: ='[1]облгаз ТП + догаз'!BY27:CH27+[1]ГОРГАЗ!BY27 -> 0 | CI27: ='[1]облгаз ТП + догаз'!CI27:CU27+[1]ГОРГАЗ!CI27 -> 0 | CV27: ='[1]облгаз ТП + догаз'!CV27:DD27+[1]ГОРГАЗ!CV27 -> 0 | DE27: ='[1]облгаз ТП + догаз'!DE27:DV27+[1]ГОРГАЗ!DE27 -> 0 | DW27: ='[1]облгаз ТП + догаз'!DW27:ED27+[1]ГОРГАЗ!EE27 -> 0 | EE27: ='[1]облгаз ТП + догаз'!EE27:EL27+[1]ГОРГАЗ!EE27 -> 0 | EM27: ='[1]облгаз ТП + догаз'!EM27:EZ27+[1]ГОРГАЗ!EM27 -> 0 | FA27: ='[1]облгаз ТП + догаз'!FA27:FK27+[1]ГОРГАЗ!FA27 -> 0
A28: 12 | R28: переход через водные преграды | AS28: ='[1]облгаз ТП + догаз'!AS28:AZ28+[1]ГОРГАЗ!AS28 -> 0 | BA28: ='[1]облгаз ТП + догаз'!BA28:BH28+[1]ГОРГАЗ!BA28 -> 0 | BI28: ='[1]облгаз ТП + догаз'!BI28:BP28+[1]ГОРГАЗ!BI28 -> 0 | BQ28: ='[1]облгаз ТП + догаз'!BQ28:BX28+[1]ГОРГАЗ!BQ28 -> 0 | BY28: ='[1]облгаз ТП + догаз'!BY28:CH28+[1]ГОРГАЗ!BY28 -> 0 | CI28: ='[1]облгаз ТП + догаз'!CI28:CU28+[1]ГОРГАЗ!CI28 -> 0 | CV28: ='[1]облгаз ТП + догаз'!CV28:DD28+[1]ГОРГАЗ!CV28 -> 0 | DE28: ='[1]облгаз ТП + догаз'!DE28:DV28+[1]ГОРГАЗ!DE28 -> 0 | DW28: ='[1]облгаз ТП + догаз'!DW28:ED28+[1]ГОРГАЗ!DW28 -> 0 | EE28: ='[1]облгаз ТП + догаз'!EE28:EL28+[1]ГОРГАЗ!EE28 -> 0 | EM28: ='[1]облгаз ТП + догаз'!EM28:EZ28+[1]ГОРГАЗ!EM28 -> 0 | FA28: ='[1]облгаз ТП + догаз'!FA28:FK28+[1]ГОРГАЗ!FA28 -> 0
A29: 13 | R29: прокладка газопроводов по болотам, в скальных породах, охраняемых территориях | AS29: ='[1]облгаз ТП + догаз'!AS29:AZ29+[1]ГОРГАЗ!AS29 -> 0 | BA29: ='[1]облгаз ТП + догаз'!BA29:BH29+[1]ГОРГАЗ!BA29 -> 0 | BI29: ='[1]облгаз ТП + догаз'!BI29:BP29+[1]ГОРГАЗ!BI30 -> 0 | BQ29: ='[1]облгаз ТП + догаз'!BQ29:BX29+[1]ГОРГАЗ!BQ30 -> 0 | BY29: ='[1]облгаз ТП + догаз'!BY29:CH29+[1]ГОРГАЗ!BY30 -> 0 | CI29: ='[1]облгаз ТП + догаз'!CI29:CU29+[1]ГОРГАЗ!CI29 -> 0 | CV29: ='[1]облгаз ТП + догаз'!CV29:DD29+[1]ГОРГАЗ!CV29 -> 0 | DE29: ='[1]облгаз ТП + догаз'!DE29:DV29+[1]ГОРГАЗ!DE29 -> 0 | DW29: ='[1]облгаз ТП + догаз'!DW29:ED29+[1]ГОРГАЗ!DW29 -> 0 | EE29: ='[1]облгаз ТП + догаз'!EE29:EL29+[1]ГОРГАЗ!EE29 -> 0 | EM29: ='[1]облгаз ТП + догаз'!EM29:EZ29+[1]ГОРГАЗ!EM29 -> 0 | FA29: ='[1]облгаз ТП + догаз'!FA29:FK29+[1]ГОРГАЗ!FA29 -> 0
A30: 14 | R30: прокладка газопровода длиной более 30 м и диаметром более 158 мм бестраншейным способом | AS30: ='[1]облгаз ТП + догаз'!AS30:AZ30+[1]ГОРГАЗ!AS30 -> 0 | BA30: ='[1]облгаз ТП + догаз'!BA30:BH30+[1]ГОРГАЗ!BA30 -> 0 | BI30: ='[1]облгаз ТП + догаз'!BI30:BP30+[1]ГОРГАЗ!BI30 -> 0 | BQ30: ='[1]облгаз ТП + догаз'!BQ30:BX30+[1]ГОРГАЗ!BQ30 -> 0 | BY30: ='[1]облгаз ТП + догаз'!BY30:CH30+[1]ГОРГАЗ!BY30 -> 0 | CI30: ='[1]облгаз ТП + догаз'!CI30:CU30+[1]ГОРГАЗ!CI30 -> 0 | CV30: ='[1]облгаз ТП + догаз'!CV30:DD30+[1]ГОРГАЗ!CV30 -> 0 | DE30: ='[1]облгаз ТП + догаз'!DE30:DV30+[1]ГОРГАЗ!DE30 -> 0 | DW30: ='[1]облгаз ТП + догаз'!DW30:ED30+[1]ГОРГАЗ!DW30 -> 1 | EE30: ='[1]облгаз ТП + догаз'!EE30:EL30+[1]ГОРГАЗ!EE30 -> 21.6 | EM30: ='[1]облгаз ТП + догаз'!EM30:EZ30+[1]ГОРГАЗ!EM30 -> 0 | FA30: ='[1]облгаз ТП + догаз'!FA30:FK30+[1]ГОРГАЗ!FA30 -> 0
A31: 15 | G31: Заявители в рамках догазификации | AS31: 309 | BA31: 1933.05 | BI31: 4 | BQ31: 20 | BY31: 4 | DW31: 256 | EE31: 1662.52 | EM31: 119 | FA31: 759.3
A32: 15.1 | G32: в том числе заявители, с которыми заключены договоры со сроком технологического подключения при увеличении пропускной способности объектов газотранспортной организации | AS32: 0 | BA32: 0 | BI32: 0 | BQ32: 0 | BY32: 0 | CI32: 0 | CV32: 0 | DE32: 0 | DW32: 0 | EE32: 0 | EM32: 0 | FA32: 0
A33: 16 | G33: Итого: | AS33: =SUM(AS17:AS32) -> 389 | BA33: =SUM(BA17:BH32) -> 5071.07 | BI33: =SUM(BI31:BP32) -> 4 | BQ33: =SUM(BQ31:BX32) -> 20 | BY33: =SUM(BY31:CH32) -> 4 | DW33: =SUM(DW17:DX32) -> 332 | EE33: =SUM(EE17:EF32) -> 3720.25 | EM33: =SUM(EM17:EM32) -> 200 | FA33: =SUM(FA17:FK32) -> 2173.63
A34: 17 | G34: Количество отклоненных заявок (из столбца 7, по строке 16) по причине отсутствия технической возможности в объектах газотранспортной организации (пообъектно) и количество заключенных договоров в рамках догазификации (со сроком технологического подключения при увеличении пропускной способности объектов газотранспортной организации), в зависимости от превышения пропускной способности объекта от проектной величины, шт.
G35: Объекты газотранспортной системы | AS35: свыше 3% | BI35: свыше 5% | CI35: свыше 7% | DW35: свыше 10% | EM35: свыше 20%
G36: 1…
G37: 2…
